BEGIN:VCALENDAR
PRODID:-//wpccc.org.nz//EN
VERSION:2.0
METHOD:PUBLISH
BEGIN:VEVENT
DTSTART;TZID=America/New_York:20180128T190000
DTEND;TZID=America/New_York:20180128T190000
URL:http://wpccc.org.nz/whats-on/night-church/
SUMMARY:Night Church
END:VEVENT
END:VCALENDAR